BEGIN:VCALENDAR
VERSION:2.0
PRODID:-//wp-events-plugin.com//7.2.3.1//EN
TZID:America/Denver
X-WR-TIMEZONE:America/Denver
BEGIN:VEVENT
UID:683@krystal93.com
DTSTART;TZID=America/Denver:20230808T100000
DTEND;TZID=America/Denver:20230808T130000
DTSTAMP:20230801T011545Z
URL:https://krystal93.com/events/day-with-horses-12-18-2/
SUMMARY:Day With Horses (12-18)
DESCRIPTION:\n\n\n\n\n\n\n\n\n\nDAY AT SUMMIT VALLEY HORSE CENTER AGES 12-1
 8\n\nJoin the HYPE for a day at the Summit Valley Horse Center and learn a
 bout the connection between humans and horses! Participation limited to ag
 es 12- 18. Facilitated in English. Time: 10am-1pm Location: Silverthorne\n
 \nGo to Building Hope Summit County for more information.\n\n\n\n\n\n\n\n\
 n\n
CATEGORIES:Building Hope Summit County
END:VEVENT
BEGIN:VTIMEZONE
TZID:America/Denver
X-LIC-LOCATION:America/Denver
BEGIN:DAYLIGHT
DTSTART:20230312T030000
TZOFFSETFROM:-0700
TZOFFSETTO:-0600
TZNAME:MDT
END:DAYLIGHT
END:VTIMEZONE
END:VCALENDAR