BEGIN:VCALENDAR
VERSION:2.0
PRODID:-//wp-events-plugin.com//7.2.3.1//EN
TZID:America/Denver
X-WR-TIMEZONE:America/Denver
BEGIN:VEVENT
UID:894@krystal93.com
DTSTART;TZID=America/Denver:20240314T200000
DTEND;TZID=America/Denver:20240314T230000
DTSTAMP:20240301T034242Z
URL:https://krystal93.com/events/doom-flamingo-10mmh/
SUMMARY:Doom Flamingo -10MMH
DESCRIPTION:
CATEGORIES:10 Mile Music Hall
END:VEVENT
BEGIN:VTIMEZONE
TZID:America/Denver
X-LIC-LOCATION:America/Denver
BEGIN:DAYLIGHT
DTSTART:20240310T030000
TZOFFSETFROM:-0700
TZOFFSETTO:-0600
TZNAME:MDT
END:DAYLIGHT
END:VTIMEZONE
END:VCALENDAR