BEGIN:VCALENDAR
VERSION:2.0
PRODID:-//wp-events-plugin.com//7.2.3.1//EN
TZID:America/Denver
X-WR-TIMEZONE:America/Denver
BEGIN:VEVENT
UID:1900@krystal93.com
DTSTART;TZID=America/Denver:20260404T140000
DTEND;TZID=America/Denver:20260404T160000
DTSTAMP:20260329T134329Z
URL:https://krystal93.com/events/easter-egg-stravaganza/
SUMMARY:Easter EGG-stravaganza
DESCRIPTION:It’s an Easter EGG-stravaganza for families and little ones
 . Head to Agape Outpost on Highway 9 in Breckenridge Saturday April 4\,
  from 2 to 4pm for a fun time for the kiddos. There’ll be snacks\, cra
 fts\, egg coloring and fellowship and a walk through the life of Jesus. I
 t’s an Easter celebration at Agape Outpost Saturday April 4. 
END:VEVENT
BEGIN:VTIMEZONE
TZID:America/Denver
X-LIC-LOCATION:America/Denver
BEGIN:DAYLIGHT
DTSTART:20260308T030000
TZOFFSETFROM:-0700
TZOFFSETTO:-0600
TZNAME:MDT
END:DAYLIGHT
END:VTIMEZONE
END:VCALENDAR