BEGIN:VCALENDAR
VERSION:2.0
PRODID:-//wp-events-plugin.com//7.2.3.1//EN
TZID:America/Denver
X-WR-TIMEZONE:America/Denver
BEGIN:VEVENT
UID:1397@krystal93.com
DTSTART;TZID=America/Denver:20250322T200000
DTEND;TZID=America/Denver:20250322T223000
DTSTAMP:20250303T011354Z
URL:https://krystal93.com/events/easy-jim-music-of-the-grateful-dead-live-
 at-10-mile-music-hall/
SUMMARY:Easy Jim\, Music of the Grateful Dead live at 10 Mile Music Hall
DESCRIPTION:Celebrate the live Grateful Dead experience with Easy Jim at th
 e 10 Mile Music Hall on Saturday\, March 22nd! Doors open at 8pm\, showtim
 e is 8:30pm\, and tickets and more information can be found at www.10milem
 usic.com.
CATEGORIES:10 Mile Music Hall
LOCATION:10 Mile Music Hall\, 710 Main St\, Frisco\, United States
X-APPLE-STRUCTURED-LOCATION;VALUE=URI;X-ADDRESS=710 Main St\, Frisco\, Unit
 ed States;X-APPLE-RADIUS=100;X-TITLE=10 Mile Music Hall:geo:0,0
END:VEVENT
BEGIN:VTIMEZONE
TZID:America/Denver
X-LIC-LOCATION:America/Denver
BEGIN:DAYLIGHT
DTSTART:20250309T030000
TZOFFSETFROM:-0700
TZOFFSETTO:-0600
TZNAME:MDT
END:DAYLIGHT
END:VTIMEZONE
END:VCALENDAR