BEGIN:VCALENDAR
VERSION:2.0
PRODID:-//wp-events-plugin.com//7.2.3.1//EN
TZID:America/Denver
X-WR-TIMEZONE:America/Denver
BEGIN:VEVENT
UID:489@krystal93.com
DTSTART;TZID=America/Denver:20230322T180000
DTEND;TZID=America/Denver:20230322T193000
DTSTAMP:20230228T171646Z
URL:https://krystal93.com/events/ecstatic-dance/
SUMMARY:Ecstatic Dance
DESCRIPTION:ECSTATIC DANCE  \n\nJoin us for an unforgettable journey of se
 lf-expression through movement! Ecstatic Dance is an opportunity to let go
  of all inhibitions and lose yourself in the music. With a curated selecti
 on of upbeat and uplifting tunes\, our dance floor will become a sanctuary
  for you to let loose\, move your body\, and connect with others. No exper
 ience required\, just an open heart and a willingness to let go and have f
 un.. Event Facilitated in English. www.buildinghopesummit.org/events \n\n
 Time: 6-7:30pm Location: Silverthorne 
CATEGORIES:Building Hope Summit County
END:VEVENT
BEGIN:VTIMEZONE
TZID:America/Denver
X-LIC-LOCATION:America/Denver
BEGIN:DAYLIGHT
DTSTART:20230312T030000
TZOFFSETFROM:-0700
TZOFFSETTO:-0600
TZNAME:MDT
END:DAYLIGHT
END:VTIMEZONE
END:VCALENDAR