BEGIN:VCALENDAR
VERSION:2.0
PRODID:-//wp-events-plugin.com//7.2.3.1//EN
TZID:America/Denver
X-WR-TIMEZONE:America/Denver
BEGIN:VEVENT
UID:1313@krystal93.com
DTSTART;TZID=America/Denver:20250328T180000
DTEND;TZID=America/Denver:20250328T220000
DTSTAMP:20250303T011421Z
URL:https://krystal93.com/events/efs-trivia-night/
SUMMARY:EFS Trivia Night
DESCRIPTION:https://efsummit.org/trivia-night-fundraiser/
CATEGORIES:Town of Silverthorne
LOCATION:Silverthorne Pavilion\, 400 Blue River Pkwy\, Silverthorne\, CO\, 
 80498\, United States
X-APPLE-STRUCTURED-LOCATION;VALUE=URI;X-ADDRESS=400 Blue River Pkwy\, Silve
 rthorne\, CO\, 80498\, United States;X-APPLE-RADIUS=100;X-TITLE=Silverthor
 ne Pavilion:geo:0,0
END:VEVENT
BEGIN:VTIMEZONE
TZID:America/Denver
X-LIC-LOCATION:America/Denver
BEGIN:DAYLIGHT
DTSTART:20250309T030000
TZOFFSETFROM:-0700
TZOFFSETTO:-0600
TZNAME:MDT
END:DAYLIGHT
END:VTIMEZONE
END:VCALENDAR