BEGIN:VCALENDAR
VERSION:2.0
PRODID:-//wp-events-plugin.com//7.2.3.1//EN
TZID:America/Denver
X-WR-TIMEZONE:America/Denver
BEGIN:VEVENT
UID:1385@krystal93.com
DTSTART;TZID=America/Denver:20250228T200000
DTEND;TZID=America/Denver:20250228T230000
DTSTAMP:20250203T150556Z
URL:https://krystal93.com/events/eggy-10-mile-music-hall/
SUMMARY:Eggy @ 10 Mile Music Hall
DESCRIPTION:Song by timeless song Eggy reaches out a hand\, inviting you al
 ong as a great story unfolds. Eggy’s music traces the full spectrum of e
 motions\, evoked by a life well-lived alongside friends well-loved.\n\nEgg
 y formed from a high school dream into a full-fledged reality. Aligning to
 gether in 2016\, the lineup of Alex Bailey (drums\, vocals)\, Jake Brownst
 ein (guitar\, vocals)\, Mike Goodman (bass\, vocals) and Dani Battat (keys
 \, vocals) has captured the ears of listeners across the USA and beyond.\n
 \nFollowing the release of their 2019 debut record\, “Watercolor Days\,
 ” the band has toured constantly\, performing in over 40 states. Amidst 
 their travels in 2021\, Eggy stopped in Nashville to record two singles\, 
 released as Nashville Tapes the following year. Highlights from the band
 ’s many eclectic shows have been handpicked by the band for consumption\
 , including the most recent “Eggy Selects: Spring Tour 2023\, Vol. 1).
 ”\n\n10 Mile Music Hall in Frisco @ 8:00pm. 
CATEGORIES:10 Mile Music Hall
END:VEVENT
BEGIN:VTIMEZONE
TZID:America/Denver
X-LIC-LOCATION:America/Denver
BEGIN:STANDARD
DTSTART:20241103T010000
TZOFFSETFROM:-0600
TZOFFSETTO:-0700
TZNAME:MST
END:STANDARD
END:VTIMEZONE
END:VCALENDAR