BEGIN:VCALENDAR
VERSION:2.0
PRODID:-//wp-events-plugin.com//7.2.3.1//EN
TZID:America/Denver
X-WR-TIMEZONE:America/Denver
BEGIN:VEVENT
UID:934@krystal93.com
DTSTART;TZID=America/Denver:20240412T200000
DTEND;TZID=America/Denver:20240412T230000
DTSTAMP:20240401T033248Z
URL:https://krystal93.com/events/eggy-10mmh/
SUMMARY:Eggy -10MMH
DESCRIPTION:See Eggy with Neighbor at 10 Mile Music Hall in Frisco on April
  12.\n\nSong by timeless song Eggy reaches out a hand\, inviting you along
  as a great story unfolds. Eggy’s music traces the full spectrum of emot
 ions\, evoked by a life well-lived alongside friends well-loved.\n\nEggy f
 ormed from a high school dream into a full-fledged reality. Aligning toget
 her in 2016\, the lineup of Alex Bailey (drums\, vocals)\, Jake Brownstein
  (guitar\, vocals)\, Mike Goodman (bass\, vocals) and Dani Battat (keys\, 
 vocals) has captured the ears of listeners across the USA and beyond.\n\nF
 ollowing the release of their 2019 debut record\, Watercolor Days\, the ba
 nd has toured constantly\, performing in over 40 states. Amidst their trav
 els in 2021\, Eggy stopped in Nashville to record two singles\, released a
 s Nashville Tapes the following year. Highlights from the band’s many ec
 lectic shows have been handpicked by the band for consumption\, including 
 the most recent “Eggy Selects: Spring Tour 2023\, Vol. 1).
CATEGORIES:10 Mile Music Hall
END:VEVENT
BEGIN:VTIMEZONE
TZID:America/Denver
X-LIC-LOCATION:America/Denver
BEGIN:DAYLIGHT
DTSTART:20240310T030000
TZOFFSETFROM:-0700
TZOFFSETTO:-0600
TZNAME:MDT
END:DAYLIGHT
END:VTIMEZONE
END:VCALENDAR