BEGIN:VCALENDAR
VERSION:2.0
PRODID:-//wp-events-plugin.com//7.2.3.1//EN
TZID:America/Denver
X-WR-TIMEZONE:America/Denver
BEGIN:VEVENT
UID:732@krystal93.com
DTSTART;TZID=America/Denver:20231013T100000
DTEND;TZID=America/Denver:20231013T113000
DTSTAMP:20231002T150251Z
URL:https://krystal93.com/events/event-ambassador-training-2/
SUMMARY:Event Ambassador Training
DESCRIPTION:EVENT AMBASSADOR VOLUNTEER TRAINING  Interested in representin
 g Building Hope at our events? Take this 90-minute virtual training to bec
 ome a Volunteer Event Ambassador. Facilitated in English. Time: 10-11:30am
  Location: Virtual  \n\nGo to buildinghopesummit.org for more details.
CATEGORIES:Building Hope Summit County
END:VEVENT
BEGIN:VTIMEZONE
TZID:America/Denver
X-LIC-LOCATION:America/Denver
BEGIN:DAYLIGHT
DTSTART:20230312T030000
TZOFFSETFROM:-0700
TZOFFSETTO:-0600
TZNAME:MDT
END:DAYLIGHT
END:VTIMEZONE
END:VCALENDAR