BEGIN:VCALENDAR
VERSION:2.0
PRODID:-//wp-events-plugin.com//7.2.3.1//EN
TZID:America/Denver
X-WR-TIMEZONE:America/Denver
BEGIN:VEVENT
UID:754@krystal93.com
DTSTART;TZID=America/Denver:20231111T100000
DTEND;TZID=America/Denver:20231111T113000
DTSTAMP:20231101T004523Z
URL:https://krystal93.com/events/event-ambassador-training-spanish/
SUMMARY:Event Ambassador Training (Spanish)
DESCRIPTION:\n\n\n\n\n\n\n\n\n\n\n\n\n\n\n\nInterested in representing Buil
 ding Hope at our events? Take this 90-minute virtual training to become a 
 Volunteer Event Ambassador. Facilitated in Spanish.\n\n\n\n\n\n\n\n\n\n\n\
 n\n\n\n\n\nGo to buildinghopesummit.org for more information.\n\nTime: 10:
 00-11:30am\nLocation: Virtual
CATEGORIES:Building Hope Summit County
END:VEVENT
BEGIN:VTIMEZONE
TZID:America/Denver
X-LIC-LOCATION:America/Denver
BEGIN:STANDARD
DTSTART:20231105T010000
TZOFFSETFROM:-0600
TZOFFSETTO:-0700
TZNAME:MST
END:STANDARD
END:VTIMEZONE
END:VCALENDAR