BEGIN:VCALENDAR
VERSION:2.0
PRODID:-//wp-events-plugin.com//7.2.3.1//EN
TZID:America/Denver
X-WR-TIMEZONE:America/Denver
BEGIN:VEVENT
UID:730@krystal93.com
DTSTART;TZID=America/Denver:20231010T140000
DTEND;TZID=America/Denver:20231010T153000
DTSTAMP:20231002T150046Z
URL:https://krystal93.com/events/event-ambassador-training/
SUMMARY:Event Ambassador Training
DESCRIPTION:EVENT AMBASSADOR VOLUNTEER TRAINING Interested in representing 
 Building Hope at our events? Take this 90-minute virtual training to becom
 e a Volunteer Event Ambassador. Facilitated in English. Time: 2-3:30pm Loc
 ation: Virtual  \n\nGo to buildinghopesummit.org for more details.
CATEGORIES:Building Hope Summit County
END:VEVENT
BEGIN:VTIMEZONE
TZID:America/Denver
X-LIC-LOCATION:America/Denver
BEGIN:DAYLIGHT
DTSTART:20230312T030000
TZOFFSETFROM:-0700
TZOFFSETTO:-0600
TZNAME:MDT
END:DAYLIGHT
END:VTIMEZONE
END:VCALENDAR