BEGIN:VCALENDAR
VERSION:2.0
PRODID:-//wp-events-plugin.com//7.2.3.1//EN
TZID:America/Denver
X-WR-TIMEZONE:America/Denver
BEGIN:VEVENT
UID:142@krystal93.com
DTSTART;TZID=America/Denver:20220419T180000
DTEND;TZID=America/Denver:20220419T193000
DTSTAMP:20220404T043139Z
URL:https://krystal93.com/events/expressive-art-3/
SUMMARY:Expressive Art
DESCRIPTION:\n\n\n\n\n\n\n\n\n\n\n\n\nJoin Expressive Artist Kathye Conti t
 o explore the role art plays in promoting personal well-being and \n\ncon
 nectedness. Kathye will lead you in painting techniques using a black canv
 as. Event Facilitated in English. \n\nTime: 6-7:30 pm Location: Silvertho
 rne \n\nMore info at BuildingHopeSummit.org/events.\n\n&nbsp\;\n\n&nbsp\
 ;\n\n\n\n\n\n\n\n\n\n\n\n\n
CATEGORIES:Building Hope Summit County
END:VEVENT
BEGIN:VTIMEZONE
TZID:America/Denver
X-LIC-LOCATION:America/Denver
BEGIN:DAYLIGHT
DTSTART:20220313T030000
TZOFFSETFROM:-0700
TZOFFSETTO:-0600
TZNAME:MDT
END:DAYLIGHT
END:VTIMEZONE
END:VCALENDAR