BEGIN:VCALENDAR
VERSION:2.0
PRODID:-//wp-events-plugin.com//7.2.3.1//EN
TZID:America/Denver
X-WR-TIMEZONE:America/Denver
BEGIN:VEVENT
UID:635@krystal93.com
DTSTART;TZID=America/Denver:20230719T180000
DTEND;TZID=America/Denver:20230719T193000
DTSTAMP:20230701T152140Z
URL:https://krystal93.com/events/expressive-art-6/
SUMMARY:Expressive Art
DESCRIPTION:\n\n\n\n\n\n\n\n\n\n\n\n\n\n\n\n\n\n\n\n\n\nEXPRESSIVE ART-HEAL
 ING 19 HEARTS CANVAS BAGS\n\nCome together in community\, love WEDNESDAY a
 nd connectedness to create Healing\n\nHearts Care Bags which are provided 
 to families following the loss of someone they love to suicide. Facilitate
 d in English.\n\nTime: 6-7:30pm\n\nLocation: Frisco\n\n\n\n\n\n\n\n\n\n\n\
 n\n\n\n\n\n\n\n\n\n\n\nGo to Building Hope Summit County for more informat
 ion.  
CATEGORIES:Building Hope Summit County
END:VEVENT
BEGIN:VTIMEZONE
TZID:America/Denver
X-LIC-LOCATION:America/Denver
BEGIN:DAYLIGHT
DTSTART:20230312T030000
TZOFFSETFROM:-0700
TZOFFSETTO:-0600
TZNAME:MDT
END:DAYLIGHT
END:VTIMEZONE
END:VCALENDAR