BEGIN:VCALENDAR
VERSION:2.0
PRODID:-//wp-events-plugin.com//7.2.3.1//EN
TZID:America/Denver
X-WR-TIMEZONE:America/Denver
BEGIN:VEVENT
UID:1194@krystal93.com
DTSTART;TZID=America/Denver:20241010T180000
DTEND;TZID=America/Denver:20241010T200000
DTSTAMP:20240930T211359Z
URL:https://krystal93.com/events/expressive-art-8/
SUMMARY:Expressive Art
DESCRIPTION:TUESDAY\, OCTOBER 22\n6-8 pm\nEXPRESSIVE ART\nSilverthorne\nJoi
 n Expressive Artist Kathye Conti to\nexplore the role art plays in promoti
 ng\npersonal well-being and connectedness\nEvent Facilitated in English.\n
 Go to buildinghopesummit.org for more information.
CATEGORIES:Building Hope Summit County
END:VEVENT
BEGIN:VTIMEZONE
TZID:America/Denver
X-LIC-LOCATION:America/Denver
BEGIN:DAYLIGHT
DTSTART:20240310T030000
TZOFFSETFROM:-0700
TZOFFSETTO:-0600
TZNAME:MDT
END:DAYLIGHT
END:VTIMEZONE
END:VCALENDAR