BEGIN:VCALENDAR
VERSION:2.0
PRODID:-//wp-events-plugin.com//7.2.3.1//EN
TZID:America/Denver
X-WR-TIMEZONE:America/Denver
BEGIN:VEVENT
UID:748@krystal93.com
DTSTART;TZID=America/Denver:20231101T180000
DTEND;TZID=America/Denver:20231101T200000
DTSTAMP:20231101T002944Z
URL:https://krystal93.com/events/expressive-art-painting-class/
SUMMARY:Expressive Art Painting Class
DESCRIPTION:Join Expressive Artist Kathy Conti to explore the role art play
 s in promoting personal well-being and connectedness. Go to buildinghopesu
 mmit.org for more information.\n\nTime: 6:00-8:00PM\nLocation: Frisco
CATEGORIES:Building Hope Summit County
END:VEVENT
BEGIN:VTIMEZONE
TZID:America/Denver
X-LIC-LOCATION:America/Denver
BEGIN:DAYLIGHT
DTSTART:20230312T030000
TZOFFSETFROM:-0700
TZOFFSETTO:-0600
TZNAME:MDT
END:DAYLIGHT
END:VTIMEZONE
END:VCALENDAR