BEGIN:VCALENDAR
VERSION:2.0
PRODID:-//wp-events-plugin.com//7.2.3.1//EN
TZID:America/Denver
X-WR-TIMEZONE:America/Denver
BEGIN:VEVENT
UID:1694@krystal93.com
DTSTART;TZID=America/Denver;VALUE=DATE:20250830
DTEND;TZID=America/Denver;VALUE=DATE:20250901
DTSTAMP:20250829T144551Z
URL:https://krystal93.com/events/fall-fest-dillon-2/
SUMMARY:Fall Fest - Dillon
DESCRIPTION:Don’t miss the 8th Annual Fall Fest in Dillon this Saturday a
 nd Sunday August 30th and 31st from 10am to 5pm each day. Explore the work
 s of over 100 incredible artists including paintings\, jewelry\, sculpture
 \, and more. Plus\, food trucks and music. Listen to Krystal 93 Saturday a
 nd hear TJ talk with event organizers\, artists and shoppers. Remember to 
 get a ticket from any artist for the One Thousand Dollar Art Shopping Spre
 e drawing to take place on Sunday at noon. Get more info at fallfestindill
 on-dot-com  
END:VEVENT
BEGIN:VTIMEZONE
TZID:America/Denver
X-LIC-LOCATION:America/Denver
BEGIN:DAYLIGHT
DTSTART:20250309T030000
TZOFFSETFROM:-0700
TZOFFSETTO:-0600
TZNAME:MDT
END:DAYLIGHT
END:VTIMEZONE
END:VCALENDAR