BEGIN:VCALENDAR
VERSION:2.0
PRODID:-//wp-events-plugin.com//7.2.3.1//EN
TZID:America/Denver
X-WR-TIMEZONE:America/Denver
BEGIN:VEVENT
UID:717@krystal93.com
DTSTART;TZID=America/Denver:20230902T000000
DTEND;TZID=America/Denver:20230903T000000
DTSTAMP:20230831T042024Z
URL:https://krystal93.com/events/fall-fest-dillon/
SUMMARY:Fall Fest - Dillon
DESCRIPTION:Check out the artists at Fall Fest in Dillon Saturday and Sunda
 y\, September 2nd and 3rd in downtown Dillon. You’ll find everything fro
 m paintings\, sculptures\, jewelry and more to live music with the acousti
 c guitar duo Skanson &amp\; Hanson performing both days. Plus\, get a free
  ticket for a chance to win a $1\,000.00 art festival shopping spree! The 
 drawing will be on Sunday at 1:00 pm. The Fall Fest in Dillon runs 10-5pm 
 on Saturday and Sunday.   
END:VEVENT
BEGIN:VTIMEZONE
TZID:America/Denver
X-LIC-LOCATION:America/Denver
BEGIN:DAYLIGHT
DTSTART:20230312T030000
TZOFFSETFROM:-0700
TZOFFSETTO:-0600
TZNAME:MDT
END:DAYLIGHT
END:VTIMEZONE
END:VCALENDAR