BEGIN:VCALENDAR
VERSION:2.0
PRODID:-//wp-events-plugin.com//7.2.3.1//EN
TZID:America/Denver
X-WR-TIMEZONE:America/Denver
BEGIN:VEVENT
UID:1154@krystal93.com
DTSTART;TZID=America/Denver:20240831T000000
DTEND;TZID=America/Denver:20240901T000000
DTSTAMP:20240829T013817Z
URL:https://krystal93.com/events/fall-fest-in-dillon/
SUMMARY:Fall Fest in dillon
DESCRIPTION: Don’t miss Fall Fest in Dillon – it's the best Labor Day 
 weekend art festival in Colorado. It’s Saturday and Sunday August 31 an
 d September 1\, from 10am to 5pm. Enjoy fine arts and crafts\, mixed media
  creations and more. You can find all the details at fallfestindillon.com.
CATEGORIES:Family Event
END:VEVENT
BEGIN:VTIMEZONE
TZID:America/Denver
X-LIC-LOCATION:America/Denver
BEGIN:DAYLIGHT
DTSTART:20240310T030000
TZOFFSETFROM:-0700
TZOFFSETTO:-0600
TZNAME:MDT
END:DAYLIGHT
END:VTIMEZONE
END:VCALENDAR