BEGIN:VCALENDAR
VERSION:2.0
PRODID:-//wp-events-plugin.com//7.2.3.1//EN
TZID:America/Denver
X-WR-TIMEZONE:America/Denver
BEGIN:VEVENT
UID:1817@krystal93.com
DTSTART;TZID=America/Denver:20260227T180000
DTEND;TZID=America/Denver:20260227T200000
DTSTAMP:20260203T031247Z
URL:https://krystal93.com/events/family-expressive-art/
SUMMARY:Family Expressive Art
DESCRIPTION:FRIDAY\, FEBRUARY 27\, 2026\nFamily Expressive Art\n6:00 pm - 8
 :00 pm / Silverthorne\nJoin Expressive Artist Kathye Conti for this family
 -friendly event to explore the role art plays in promoting personal well-b
 eing and connectedness.\nNo childcare or supervision of children is being 
 provided.\nThis event is intended for Summit County residents only.\nEvent
  Facilitated in English.\nGo to buildinghopesummit.org to sign up and for 
 more details.
CATEGORIES:Building Hope Summit County
END:VEVENT
BEGIN:VTIMEZONE
TZID:America/Denver
X-LIC-LOCATION:America/Denver
BEGIN:STANDARD
DTSTART:20251102T010000
TZOFFSETFROM:-0600
TZOFFSETTO:-0700
TZNAME:MST
END:STANDARD
END:VTIMEZONE
END:VCALENDAR