BEGIN:VCALENDAR
VERSION:2.0
PRODID:-//wp-events-plugin.com//7.2.3.1//EN
TZID:America/Denver
X-WR-TIMEZONE:America/Denver
BEGIN:VEVENT
UID:1898@krystal93.com
DTSTART;TZID=America/Denver:20260429T164500
DTEND;TZID=America/Denver:20260429T180000
DTSTAMP:20260329T133919Z
URL:https://krystal93.com/events/family-ice-skating/
SUMMARY:Family Ice Skating
DESCRIPTION:WEDNESDAY\, APRIL 29\, 2026\nFamily Ice Skating\n4:45 pm-6:00 p
 m / Breckenridge\nBring the whole family and join Building Hope for ice\ns
 kating! Whether you’re a beginner or looking to\nsharpen your skills\, i
 nstructors will offer short lessons\nthroughout the event.\nNo childcare o
 r supervision of children is being provided.\nThis event is intended for S
 ummit County residents only.\nEvent Facilitated in English.\nCONTACT Build
 ingHopeSummit.org for more information and to sign up.
CATEGORIES:Building Hope Summit County
END:VEVENT
BEGIN:VTIMEZONE
TZID:America/Denver
X-LIC-LOCATION:America/Denver
BEGIN:DAYLIGHT
DTSTART:20260308T030000
TZOFFSETFROM:-0700
TZOFFSETTO:-0600
TZNAME:MDT
END:DAYLIGHT
END:VTIMEZONE
END:VCALENDAR