BEGIN:VCALENDAR
VERSION:2.0
PRODID:-//wp-events-plugin.com//7.2.3.1//EN
TZID:America/Denver
X-WR-TIMEZONE:America/Denver
BEGIN:VEVENT
UID:1816@krystal93.com
DTSTART;TZID=America/Denver:20260219T173000
DTEND;TZID=America/Denver:20260219T193000
DTSTAMP:20260203T031150Z
URL:https://krystal93.com/events/family-indoor-rock-climbing/
SUMMARY:Family Indoor Rock Climbing
DESCRIPTION:THURSDAY\, FEBRUARY 19\, 2026\nFamily Indoor Rock Climbing\n5:3
 0 pm - 7:30 pm / Breckenridge\nBring the whole family together for an exci
 ting indoor\nrock climbing adventure!\nNo childcare or supervision of chil
 dren is being provided.\nThis event is intended for Summit County resident
 s only.\nEvent Facilitated in English.\nGo to buildinghopesummit.org to si
 gn up and for more details.
CATEGORIES:Building Hope Summit County
END:VEVENT
BEGIN:VTIMEZONE
TZID:America/Denver
X-LIC-LOCATION:America/Denver
BEGIN:STANDARD
DTSTART:20251102T010000
TZOFFSETFROM:-0600
TZOFFSETTO:-0700
TZNAME:MST
END:STANDARD
END:VTIMEZONE
END:VCALENDAR