BEGIN:VCALENDAR
VERSION:2.0
PRODID:-//wp-events-plugin.com//7.2.3.1//EN
TZID:America/Denver
X-WR-TIMEZONE:America/Denver
BEGIN:VEVENT
UID:888@krystal93.com
DTSTART;TZID=America/Denver:20240323T100000
DTEND;TZID=America/Denver:20240323T110000
DTSTAMP:20240301T033218Z
URL:https://krystal93.com/events/family-pixel-printing-3/
SUMMARY:Ice Skating (12-18)
DESCRIPTION:Come down to the Stephan C. West Ice Area for a fun day on the 
 rink! Participation limited to ages 12-18. Facilitated in English.\n\nTime
 : 10-11am Location: Breckenridge\n\nGo to Building Hope Summit County for 
 more information.
CATEGORIES:Building Hope Summit County
END:VEVENT
BEGIN:VTIMEZONE
TZID:America/Denver
X-LIC-LOCATION:America/Denver
BEGIN:DAYLIGHT
DTSTART:20240310T030000
TZOFFSETFROM:-0700
TZOFFSETTO:-0600
TZNAME:MDT
END:DAYLIGHT
END:VTIMEZONE
END:VCALENDAR