BEGIN:VCALENDAR
VERSION:2.0
PRODID:-//wp-events-plugin.com//7.2.3.1//EN
TZID:America/Denver
X-WR-TIMEZONE:America/Denver
BEGIN:VEVENT
UID:1779@krystal93.com
DTSTART;TZID=America/Denver:20260111T120000
DTEND;TZID=America/Denver:20260111T130000
DTSTAMP:20260102T024509Z
URL:https://krystal93.com/events/family-skates/
SUMMARY:Family Skates
DESCRIPTION:SUNDAY\, JANUARY 11\, 2026\nFamily Skates\n12:00 pm - 1:00 pm /
  Breckenridge\nCome enjoy a chilly\, cheerful evening of gliding\,\nlearni
 ng\, and laughter with family.\nWhether you’re a beginner or looking to 
 sharpen\nyour skills\, instructors will offer short lessons\nthroughout th
 e event.\nNo childcare or supervision of children is being provided.\nThis
  event is intended for Summit County residents only.\nEvent Facilitated in
  English.\n Go to BuildingHopeSummit.org to sign up.
CATEGORIES:Building Hope Summit County
END:VEVENT
BEGIN:VTIMEZONE
TZID:America/Denver
X-LIC-LOCATION:America/Denver
BEGIN:STANDARD
DTSTART:20251102T010000
TZOFFSETFROM:-0600
TZOFFSETTO:-0700
TZNAME:MST
END:STANDARD
END:VTIMEZONE
END:VCALENDAR