BEGIN:VCALENDAR
VERSION:2.0
PRODID:-//wp-events-plugin.com//7.2.3.1//EN
TZID:America/Denver
X-WR-TIMEZONE:America/Denver
BEGIN:VEVENT
UID:482@krystal93.com
DTSTART;TZID=America/Denver:20230305T130000
DTEND;TZID=America/Denver:20230305T150000
DTSTAMP:20230228T170802Z
URL:https://krystal93.com/events/family-snowshoe-2/
SUMMARY:Family Snowshoe
DESCRIPTION:FAMILY SNOWSHOE  \n\nFriends of Dillon Range District (FDRD) w
 ant to give you an experience in the snow with your whole family!! Enjoy a
 n experience in the snow. Facilitated in English and Spanish. www.building
 hopesummit.org/events \n\nTime: 1-3pm
CATEGORIES:Building Hope Summit County
END:VEVENT
BEGIN:VTIMEZONE
TZID:America/Denver
X-LIC-LOCATION:America/Denver
BEGIN:STANDARD
DTSTART:20221106T010000
TZOFFSETFROM:-0600
TZOFFSETTO:-0700
TZNAME:MST
END:STANDARD
END:VTIMEZONE
END:VCALENDAR