BEGIN:VCALENDAR
VERSION:2.0
PRODID:-//wp-events-plugin.com//7.2.3.1//EN
TZID:America/Denver
X-WR-TIMEZONE:America/Denver
BEGIN:VEVENT
UID:483@krystal93.com
DTSTART;TZID=America/Denver:20230311T120000
DTEND;TZID=America/Denver:20230311T130000
DTSTAMP:20230228T170908Z
URL:https://krystal93.com/events/family-snowshoe-3/
SUMMARY:Fit to Recover Crossfit
DESCRIPTION:FIT TO RECOVER CROSSFIT CLASS  \n\nJoin fellow community membe
 rs in recovery for a one-hour class specifically designed to create a safe
  place for connection and physical wellness. This program features bodywei
 ght movements\, cardio and weights. No experience necessary and newcomers 
 are always welcome. Event Facilitated in English. www.buildinghopesummit.o
 rg/events \n\nTime: 12-1:00PM
CATEGORIES:Building Hope Summit County
END:VEVENT
BEGIN:VTIMEZONE
TZID:America/Denver
X-LIC-LOCATION:America/Denver
BEGIN:STANDARD
DTSTART:20221106T010000
TZOFFSETFROM:-0600
TZOFFSETTO:-0700
TZNAME:MST
END:STANDARD
END:VTIMEZONE
END:VCALENDAR