BEGIN:VCALENDAR
VERSION:2.0
PRODID:-//wp-events-plugin.com//7.2.3.1//EN
TZID:America/Denver
X-WR-TIMEZONE:America/Denver
BEGIN:VEVENT
UID:1777@krystal93.com
DTSTART;TZID=America/Denver:20260108T164500
DTEND;TZID=America/Denver:20260108T180000
DTSTAMP:20260102T024245Z
URL:https://krystal93.com/events/family-tubing/
SUMMARY:Family Tubing
DESCRIPTION:THURSDAY\, JANUARY 8\, 2026\nFamily Tubing\n4:45 pm - 6:00 pm /
  Frisco\nBring your family for a fun evening of tubing!\nNo childcare or s
 upervision of children is being provided.\nThis event is intended for Summ
 it County residents only.\nEvent Facilitated in English.\n Go to BuildingH
 opeSummit.org to sign up.
CATEGORIES:Building Hope Summit County
END:VEVENT
BEGIN:VTIMEZONE
TZID:America/Denver
X-LIC-LOCATION:America/Denver
BEGIN:STANDARD
DTSTART:20251102T010000
TZOFFSETFROM:-0600
TZOFFSETTO:-0700
TZNAME:MST
END:STANDARD
END:VTIMEZONE
END:VCALENDAR