BEGIN:VCALENDAR
VERSION:2.0
PRODID:-//wp-events-plugin.com//7.2.3.1//EN
TZID:America/Denver
X-WR-TIMEZONE:America/Denver
BEGIN:VEVENT
UID:1896@krystal93.com
DTSTART;TZID=America/Denver:20260427T160000
DTEND;TZID=America/Denver:20260427T170000
DTSTAMP:20260329T133746Z
URL:https://krystal93.com/events/family-yoga-dance/
SUMMARY:Family Yoga Dance
DESCRIPTION:MONDAY\, APRIL 27\, 2026\nFamily Yoga Dance\n4:00-5:00pm/ Dillo
 n\nFamily Yoga Dance is a playful\, heart-opening\nexperience where kids a
 nd parents move\, laugh\, and\nconnect together. Families share joyful mom
 ents that\nbuild connection and trust. All ages\, from infants to\ngrandpa
 rents\, will enjoy this playful time together.\nThis event is intended for
  Summit County residents only.\nEvent Facilitated in English.\nCONTACT Bui
 ldingHopeSummit.org for more information and to sign up.
CATEGORIES:Building Hope Summit County
END:VEVENT
BEGIN:VTIMEZONE
TZID:America/Denver
X-LIC-LOCATION:America/Denver
BEGIN:DAYLIGHT
DTSTART:20260308T030000
TZOFFSETFROM:-0700
TZOFFSETTO:-0600
TZNAME:MDT
END:DAYLIGHT
END:VTIMEZONE
END:VCALENDAR