BEGIN:VCALENDAR
VERSION:2.0
PRODID:-//wp-events-plugin.com//7.2.3.1//EN
TZID:America/Denver
X-WR-TIMEZONE:America/Denver
BEGIN:VEVENT
UID:1376@krystal93.com
DTSTART;TZID=America/Denver;VALUE=DATE:20250225
DTEND;TZID=America/Denver;VALUE=DATE:20250226
DTSTAMP:20250203T144620Z
URL:https://krystal93.com/events/fdrd-backcountry-ski-with-a-ranger/
SUMMARY:FDRD Backcountry Ski with a Ranger
DESCRIPTION:Backcountry Ski with a Ranger When:  2/25/25\, 3/11/25 Where: 
 Trailheads Around Summit County: Rock Creek\, Peru Creek\, Mayflower Gulch
 \, Deer Creek\, Peaks Trail\, Vail Pass Details: Experience the beauty of 
 the backcountry like never before with the Backcountry Ski with a Ranger p
 rogram! Guided by Forest Service volunteers and local backcountry experts\
 , this program offers an adventurous journey through pristine\, untracked 
 terrain while highlighting essential backcountry safety\, wildlife conserv
 ation\, and Leave No Trace principles. Perfect for those looking to explor
 e responsibly while enjoying a truly unique mountain experience. For more 
 information on when and where to meet and to sign up\, visit FDRD.org. Spa
 ce is limited so sign up early! 
END:VEVENT
BEGIN:VTIMEZONE
TZID:America/Denver
X-LIC-LOCATION:America/Denver
BEGIN:STANDARD
DTSTART:20241103T010000
TZOFFSETFROM:-0600
TZOFFSETTO:-0700
TZNAME:MST
END:STANDARD
END:VTIMEZONE
END:VCALENDAR