BEGIN:VCALENDAR
VERSION:2.0
PRODID:-//wp-events-plugin.com//7.2.3.1//EN
TZID:America/Denver
X-WR-TIMEZONE:America/Denver
BEGIN:VEVENT
UID:1882@krystal93.com
DTSTART;TZID=America/Denver:20260411T180000
DTEND;TZID=America/Denver:20260411T210000
DTSTAMP:20260304T021203Z
URL:https://krystal93.com/events/fdrd-casino-night-2/
SUMMARY:FDRD Casino Night
DESCRIPTION:FDRD’s 8th Annual Chuck Kauffman Casino Night \n\nWhen: Satur
 day\, April 11th\, 6-9pm \n\nWhere: Silverthorne Pavilion\nDetails: Joi
 n your favorite trails non-profit\, Friends of the Dillon Ranger District\
 , for their annual Casino Night Fundraiser! Taking place on Saturday\, Apr
 il 11th at the Silverthorne Pavilion\, you’ll be able to roll the dice
  for a good cause! SPONSORED BY ALPINE BANK\, PINNACLE GIVES\, AND KRYST
 AL 93\, This is FDRD’s largest fundraiser of the year and is always gua
 ranteed to be a good time. Enjoy thrilling casino games\, great friends\,
  and help us make a real impact in our community. Every ticket purchase
 d helps fund trail projects\, outdoor education programs and conservati
 on efforts right here in Summit County. Save your spot at the tables by g
 rabbing a ticket at FDRD.org. 
END:VEVENT
BEGIN:VTIMEZONE
TZID:America/Denver
X-LIC-LOCATION:America/Denver
BEGIN:DAYLIGHT
DTSTART:20260308T030000
TZOFFSETFROM:-0700
TZOFFSETTO:-0600
TZNAME:MDT
END:DAYLIGHT
END:VTIMEZONE
END:VCALENDAR