BEGIN:VCALENDAR
VERSION:2.0
PRODID:-//wp-events-plugin.com//7.2.3.1//EN
TZID:America/Denver
X-WR-TIMEZONE:America/Denver
BEGIN:VEVENT
UID:464@krystal93.com
DTSTART;TZID=America/Denver:20230414T180000
DTEND;TZID=America/Denver:20230414T210000
DTSTAMP:20230222T183956Z
URL:https://krystal93.com/events/fdrd-casino-night/
SUMMARY:FDRD Casino Night
DESCRIPTION:Friends of the Dillon Ranger District \n\nWhat: 5th Annual Cas
 ino Night \n\nWhere: Silverthorne Pavilion \n\nWhen: Friday\, April 14 i
 n the evening\, 6:00 to 9:00pm\n\nDetails: Enjoy a night of fun and fundra
 ising—your ticket includes 500 dollars of “funny money” for gaming\,
  light appetizers\, a cash bar and a silent auction. Go to FDRD.org for mo
 re details. Krystal Media Supports the Summit.  
END:VEVENT
BEGIN:VTIMEZONE
TZID:America/Denver
X-LIC-LOCATION:America/Denver
BEGIN:DAYLIGHT
DTSTART:20230312T030000
TZOFFSETFROM:-0700
TZOFFSETTO:-0600
TZNAME:MDT
END:DAYLIGHT
END:VTIMEZONE
END:VCALENDAR