BEGIN:VCALENDAR
VERSION:2.0
PRODID:-//wp-events-plugin.com//7.2.3.1//EN
TZID:America/Denver
X-WR-TIMEZONE:America/Denver
BEGIN:VEVENT
UID:594@krystal93.com
DTSTART;TZID=America/Denver:20230523T170000
DTEND;TZID=America/Denver:20230523T200000
DTSTAMP:20230516T144616Z
URL:https://krystal93.com/events/fdrd-season-kickoff/
SUMMARY:FDRD Season Kickoff
DESCRIPTION:The Friends Of The Dillon Ranger District invites you out to th
 eir Season Kickoff Tuesday May 23rd 5-8pm at the Pad in Silverthorne. The 
 party includes live music from local faves “Mud Season”\, light food\,
  cash bar and member giveaways. This free party is open to everyone and is
  a great way to kick off the   upcoming summer season on the trails\, mo
 re info at FDRD-dot-ORG. Krystal Media\, we support the Summit. 
END:VEVENT
BEGIN:VTIMEZONE
TZID:America/Denver
X-LIC-LOCATION:America/Denver
BEGIN:DAYLIGHT
DTSTART:20230312T030000
TZOFFSETFROM:-0700
TZOFFSETTO:-0600
TZNAME:MDT
END:DAYLIGHT
END:VTIMEZONE
END:VCALENDAR