BEGIN:VCALENDAR
VERSION:2.0
PRODID:-//wp-events-plugin.com//7.2.3.1//EN
TZID:America/Denver
X-WR-TIMEZONE:America/Denver
BEGIN:VEVENT
UID:1453@krystal93.com
DTSTART;TZID=America/Denver:20250419T180000
DTEND;TZID=America/Denver:20250419T220000
DTSTAMP:20250331T143500Z
URL:https://krystal93.com/events/fdrds-casino-night/
SUMMARY:FDRD's Casino Night
DESCRIPTION:FDRD’s 7th Annual Chuck Kauffman Casino Night \n\nWhen: Satur
 day\, April 19th \n\nWhere: Silverthorne Pavilion \n\nDetails: Join your f
 avorite trails non-profit\, Friends of the Dillon Ranger District\, for th
 eir annual Casino Night Fundraiser! Taking place on Saturday\, April 19th 
 at the Silverthorne Pavilion\, you’ll be able to roll the dice for a goo
 d cause! This is FDRD’s largest fundraiser of the year and is always gua
 ranteed to be a good time. Enjoy thrilling casino games\, great friends\, 
 and help us make a real impact in our community. Every ticket purchased he
 lps fund trail projects\, outdoor education programs and conservation effo
 rts right here in Summit County. Save your spot at the table by grabbing a
  ticket at FDRD.org. That’s FDRD.org. 
END:VEVENT
BEGIN:VTIMEZONE
TZID:America/Denver
X-LIC-LOCATION:America/Denver
BEGIN:DAYLIGHT
DTSTART:20250309T030000
TZOFFSETFROM:-0700
TZOFFSETTO:-0600
TZNAME:MDT
END:DAYLIGHT
END:VTIMEZONE
END:VCALENDAR