BEGIN:VCALENDAR
VERSION:2.0
PRODID:-//wp-events-plugin.com//7.2.3.1//EN
TZID:America/Denver
X-WR-TIMEZONE:America/Denver
BEGIN:VEVENT
UID:1025@krystal93.com
DTSTART;TZID=America/Denver:20240620T163000
DTEND;TZID=America/Denver:20240620T200000
DTSTAMP:20240531T235339Z
URL:https://krystal93.com/events/firc-night-out-2/
SUMMARY:FIRC Night Out
DESCRIPTION:Get ready for FIRC Night Out on June 20th. It’s happening at 
 The Maggie in Breckenridge from 4:30 to 8:00pm. You’ll get to watch top 
 local chefs from Aurum\, Bistro North\, Rootstalk\, Sauce Family of Restau
 rants and more in action. They’ll compete using seasonal ingredients fro
 m FIRC’s food markets. Get your tickets at EventCreate-dot-com-forward s
 lash/FIRCNightOut. Krystal Media Supports the Summit. 
END:VEVENT
BEGIN:VTIMEZONE
TZID:America/Denver
X-LIC-LOCATION:America/Denver
BEGIN:DAYLIGHT
DTSTART:20240310T030000
TZOFFSETFROM:-0700
TZOFFSETTO:-0600
TZNAME:MDT
END:DAYLIGHT
END:VTIMEZONE
END:VCALENDAR