BEGIN:VCALENDAR
VERSION:2.0
PRODID:-//wp-events-plugin.com//7.2.3.1//EN
TZID:America/Denver
X-WR-TIMEZONE:America/Denver
BEGIN:VEVENT
UID:600@krystal93.com
DTSTART;TZID=America/Denver:20230609T173000
DTEND;TZID=America/Denver:20230609T210000
DTSTAMP:20230601T014343Z
URL:https://krystal93.com/events/firc-night-out/
SUMMARY:FIRC Night Out
DESCRIPTION:What: FIRC Night Out (Family &amp\; Intercultural Resource Cent
 er) \n\nWhere: Riverwalk Center in Breckenridge \n\nWhen: Friday\, June 
 9th starting at 5:30pm \n\nDetails: Join FIRC for a night of laughter\, i
 nspiration and magic with Brad Montgomery. He uses humor\, music\, and int
 eractivity to inspire joy in his audiences. The night starts with hors d
 ’oeuvres and cocktails\, and the magic begins at 7pm.  First 250 people
  get a special gift. Tickets are on sale now at breckcreate.org. Krystal M
 edia is proud to be a sponsor of this important fundraiser for FIRC. Kryst
 al Media Supports the Summit.  
END:VEVENT
BEGIN:VTIMEZONE
TZID:America/Denver
X-LIC-LOCATION:America/Denver
BEGIN:DAYLIGHT
DTSTART:20230312T030000
TZOFFSETFROM:-0700
TZOFFSETTO:-0600
TZNAME:MDT
END:DAYLIGHT
END:VTIMEZONE
END:VCALENDAR