BEGIN:VCALENDAR
VERSION:2.0
PRODID:-//wp-events-plugin.com//7.2.3.1//EN
TZID:America/Denver
X-WR-TIMEZONE:America/Denver
BEGIN:VEVENT
UID:1899@krystal93.com
DTSTART;TZID=America/Denver:20260403T163000
DTEND;TZID=America/Denver:20260403T203000
DTSTAMP:20260329T134144Z
URL:https://krystal93.com/events/first-friday-in-silverthorne-2/
SUMMARY:First Friday in Silverthorne
DESCRIPTION: \n\nFriday\, April 3\, join the Town of Silverthorne for Apri
 l’s First Friday as they celebrate the new Creative District! Silverthor
 ne will come alive with all that the Creative District has to offer. The
 re’ll be live music with Beau Thomas and Joel Lotitto\, kids crafts\
 , Bob Ross painting and more. Pick up a stamp book at the Art Spot Silvert
 horne Makerspace for chances to win branded Silverthorne items. That's F
 riday\, April 3 from 4:30 to 8:30 p.m. --Silverthorne First Fridays! Krys
 tal Media Supports the Summit.  
CATEGORIES:Town of Silverthorne
END:VEVENT
BEGIN:VTIMEZONE
TZID:America/Denver
X-LIC-LOCATION:America/Denver
BEGIN:DAYLIGHT
DTSTART:20260308T030000
TZOFFSETFROM:-0700
TZOFFSETTO:-0600
TZNAME:MDT
END:DAYLIGHT
END:VTIMEZONE
END:VCALENDAR