BEGIN:VCALENDAR
VERSION:2.0
PRODID:-//wp-events-plugin.com//7.2.3.1//EN
TZID:America/Denver
X-WR-TIMEZONE:America/Denver
BEGIN:VEVENT
UID:1158@krystal93.com
DTSTART;TZID=America/Denver:20240906T173000
DTEND;TZID=America/Denver:20240906T203000
DTSTAMP:20240829T014558Z
URL:https://krystal93.com/events/first-friday-in-silverthorne/
SUMMARY:First Friday in Silverthorne
DESCRIPTION:Check out First Friday in Silverthorne on September 6\, from 5:
 30 to 8:30pm. It’s all happing at Rainbow Park with a free concert featu
 ring Neal Francis and the opening act Hobo Village. There’ll be kids’ 
 activities\, food\, local vendors and more. Find out more at silverthorne-
 dot-org. Krystal Media supports the Summit. 
CATEGORIES:Family Event,Town of Silverthorne
END:VEVENT
BEGIN:VTIMEZONE
TZID:America/Denver
X-LIC-LOCATION:America/Denver
BEGIN:DAYLIGHT
DTSTART:20240310T030000
TZOFFSETFROM:-0700
TZOFFSETTO:-0600
TZNAME:MDT
END:DAYLIGHT
END:VTIMEZONE
END:VCALENDAR