BEGIN:VCALENDAR
VERSION:2.0
PRODID:-//wp-events-plugin.com//7.2.3.1//EN
TZID:America/Denver
X-WR-TIMEZONE:America/Denver
BEGIN:VEVENT
UID:1830@krystal93.com
DTSTART;TZID=America/Denver:20260206T173000
DTEND;TZID=America/Denver:20260206T203000
DTSTAMP:20260203T033735Z
URL:https://krystal93.com/events/first-friday-lantern-festival/
SUMMARY:First Friday Lantern Festival
DESCRIPTION:Join the Town of Silverthorne for their First Friday\, on Febru
 ary 6.  See your wish lantern float down the Blue River at the Wish Lant
 ern Festival. This draws inspiration from Dia de la Calendaria (DEE-ya
  de la Calen-DAH-ree-ya). It’s from 5:30 to 8:30pm Friday at the Silv
 erthorne Pavilion. Learn more at Silverthorne.org.
END:VEVENT
BEGIN:VTIMEZONE
TZID:America/Denver
X-LIC-LOCATION:America/Denver
BEGIN:STANDARD
DTSTART:20251102T010000
TZOFFSETFROM:-0600
TZOFFSETTO:-0700
TZNAME:MST
END:STANDARD
END:VTIMEZONE
END:VCALENDAR