BEGIN:VCALENDAR
VERSION:2.0
PRODID:-//wp-events-plugin.com//7.2.3.1//EN
TZID:America/Denver
X-WR-TIMEZONE:America/Denver
BEGIN:VEVENT
UID:1480@krystal93.com
DTSTART;TZID=America/Denver:20250502T163000
DTEND;TZID=America/Denver:20250502T203000
DTSTAMP:20250501T232103Z
URL:https://krystal93.com/events/first-friday-locals-appreciation-2/
SUMMARY:First Friday - Locals Appreciation
DESCRIPTION:Locals Liquors in Silverthorne appreciates locals this mud seas
 on\, with specials going on every week now thru the end of May. And today\
 , One of Silverthorne’s most popular First Friday events\, the Locals’
  Appreciation Party Sponsored by Locals Liquors\, is happening on the Silv
 erthorne Performing Arts Center lawn from 4:30 to 8:30 p.m. The event will
  feature free beer\, wine and liquor tasting and live music from the Chris
  Bauer Band. Check out the buy-one\, get-one deals at Locals Liquors in Si
 lverthorne! Krystal Media Supports the Summit. 
CATEGORIES:Town of Silverthorne
END:VEVENT
BEGIN:VTIMEZONE
TZID:America/Denver
X-LIC-LOCATION:America/Denver
BEGIN:DAYLIGHT
DTSTART:20250309T030000
TZOFFSETFROM:-0700
TZOFFSETTO:-0600
TZNAME:MDT
END:DAYLIGHT
END:VTIMEZONE
END:VCALENDAR