BEGIN:VCALENDAR
VERSION:2.0
PRODID:-//wp-events-plugin.com//7.2.3.1//EN
TZID:America/Denver
X-WR-TIMEZONE:America/Denver
BEGIN:VEVENT
UID:1242@krystal93.com
DTSTART;TZID=America/Denver:20241101T173000
DTEND;TZID=America/Denver:20241101T203000
DTSTAMP:20241101T164613Z
URL:https://krystal93.com/events/first-friday-silverthorne-3/
SUMMARY:First Friday - Silverthorne
DESCRIPTION:Celebrate First Friday in Silverthorne on November 1st from 5:3
 0 to 8:30 pm at the Outlets at Silverthorne Blue Village. It’ll be a Dia
  De Los Muertos celebration when the living and the dead come together to 
 celebrate life. Enjoy delicious food\, music\, dance and more. Go to Silve
 rthorne.org to find out more.
CATEGORIES:Family Event,Town of Silverthorne
END:VEVENT
BEGIN:VTIMEZONE
TZID:America/Denver
X-LIC-LOCATION:America/Denver
BEGIN:DAYLIGHT
DTSTART:20240310T030000
TZOFFSETFROM:-0700
TZOFFSETTO:-0600
TZNAME:MDT
END:DAYLIGHT
END:VTIMEZONE
END:VCALENDAR