BEGIN:VCALENDAR
VERSION:2.0
PRODID:-//wp-events-plugin.com//7.2.3.1//EN
TZID:America/Denver
X-WR-TIMEZONE:America/Denver
BEGIN:VEVENT
UID:1759@krystal93.com
DTSTART;TZID=America/Denver:20251205T163000
DTEND;TZID=America/Denver:20251205T203000
DTSTAMP:20251202T133830Z
URL:https://krystal93.com/events/first-friday-silverthorne-4/
SUMMARY:First Friday -Silverthorne
DESCRIPTION:Celebrate the holidays with the Town of Silverthorne at Decembe
 r First Friday! Head to the Silverthorne Pavilion this Friday from 4:30 t
 o 8:30 p.m. for the annual holiday tree lighting ceremony and holiday art 
 market. Sip on hot chocolate and enjoy live music\, carolers\, holiday cra
 fts and more. AND-- visit Santa himself. The tree lighting ceremony will b
 e in front of the main Silverthorne Pavilion entrance at 6 pm. Krystal Me
 dia Supports the Summit.  
CATEGORIES:Town of Silverthorne
END:VEVENT
BEGIN:VTIMEZONE
TZID:America/Denver
X-LIC-LOCATION:America/Denver
BEGIN:STANDARD
DTSTART:20251102T010000
TZOFFSETFROM:-0600
TZOFFSETTO:-0700
TZNAME:MST
END:STANDARD
END:VTIMEZONE
END:VCALENDAR