BEGIN:VCALENDAR
VERSION:2.0
PRODID:-//wp-events-plugin.com//7.2.3.1//EN
TZID:America/Denver
X-WR-TIMEZONE:America/Denver
BEGIN:VEVENT
UID:395@krystal93.com
DTSTART;TZID=America/Denver:20230106T163000
DTEND;TZID=America/Denver:20230106T193000
DTSTAMP:20230102T041247Z
URL:https://krystal93.com/events/first-friday-silverthorne/
SUMMARY:First Friday - Silverthorne
DESCRIPTION:Town of Silverthorne \n\nWhat: The First “First Friday” of
  the New Year! \n\nWhen: Friday January 6 from 4:30 – 7:30pm \n\nWhere
 : Maryland Creek Park \n\nDetails: it’s a sledding party with winter th
 emed crafts\, s’mores and hot drinks as well as ice sculptures. Learn mo
 re about January First Friday at Silverthorne-dot-org. Krystal Media Suppo
 rts the Summit.  
CATEGORIES:Town of Silverthorne
END:VEVENT
BEGIN:VTIMEZONE
TZID:America/Denver
X-LIC-LOCATION:America/Denver
BEGIN:STANDARD
DTSTART:20221106T010000
TZOFFSETFROM:-0600
TZOFFSETTO:-0700
TZNAME:MST
END:STANDARD
END:VTIMEZONE
END:VCALENDAR