BEGIN:VCALENDAR
VERSION:2.0
PRODID:-//wp-events-plugin.com//7.2.3.1//EN
TZID:America/Denver
X-WR-TIMEZONE:America/Denver
BEGIN:VEVENT
UID:1220@krystal93.com
DTSTART;TZID=America/Denver:20241004T173000
DTEND;TZID=America/Denver:20241004T203000
DTSTAMP:20241004T162039Z
URL:https://krystal93.com/events/first-friday/
SUMMARY:First Friday
DESCRIPTION:Head over to the Silverthorne Pavilion Friday October 4th.  Th
 e festivities start at 5:30. There’ll be a film fest featuring local fil
 mmakers\, live music from the Honey Biscuits Bluegrass Band\, and food fro
 m La Perla. Find out more at Silverthorne.org. Krystal Media Supports the 
 Summit.  
CATEGORIES:Town of Silverthorne
END:VEVENT
BEGIN:VTIMEZONE
TZID:America/Denver
X-LIC-LOCATION:America/Denver
BEGIN:DAYLIGHT
DTSTART:20240310T030000
TZOFFSETFROM:-0700
TZOFFSETTO:-0600
TZNAME:MDT
END:DAYLIGHT
END:VTIMEZONE
END:VCALENDAR