BEGIN:VCALENDAR
VERSION:2.0
PRODID:-//wp-events-plugin.com//7.2.3.1//EN
TZID:America/Denver
X-WR-TIMEZONE:America/Denver
BEGIN:VEVENT
UID:303@krystal93.com
DTSTART;TZID=America/Denver:20220924T120000
DTEND;TZID=America/Denver:20220924T130000
DTSTAMP:20220901T012631Z
URL:https://krystal93.com/events/fit-to-recover-crossfit-19/
SUMMARY:Fit to Recover Crossfit
DESCRIPTION:\n\n\n\n\n\n\n\n\n\n\n\n\n\n\n\n\n\n\n\n\n\n\n\n\n\n\n\nFIT TO 
 RECOVER CROSSFIT CLASS\n\nJoin fellow community members in recovery for a 
 one-hour class specifically designed to create a safe\n\nplace for connect
 ion and physical wellness. This program features bodyweight movements\, ca
 rdio and weights. No experience necessary and newcomers are always welcome
 . Event Facilitated in English.\n\nTime: 12-1pm Location: Frisco\n\n\n\n\n
 \n\n\n\n\n\nGo to Buildinghopesummit.org for more information.\n\n\n\n\n\n
 \n\n\n\n\n\n\n\n&nbsp\;\n\n\n\n\n\n\n
CATEGORIES:Building Hope Summit County
END:VEVENT
BEGIN:VTIMEZONE
TZID:America/Denver
X-LIC-LOCATION:America/Denver
BEGIN:DAYLIGHT
DTSTART:20220313T030000
TZOFFSETFROM:-0700
TZOFFSETTO:-0600
TZNAME:MDT
END:DAYLIGHT
END:VTIMEZONE
END:VCALENDAR