BEGIN:VCALENDAR
VERSION:2.0
PRODID:-//wp-events-plugin.com//7.2.3.1//EN
TZID:America/Denver
X-WR-TIMEZONE:America/Denver
BEGIN:VEVENT
UID:433@krystal93.com
DTSTART;TZID=America/Denver:20230204T120000
DTEND;TZID=America/Denver:20230204T130000
DTSTAMP:20230131T191139Z
URL:https://krystal93.com/events/fit-to-recover-crossfit-36/
SUMMARY:Fit to Recover Crossfit
DESCRIPTION:FIT TO RECOVER CROSSFIT CLASS Join fellow community members in 
 recovery for a one-hour class specifically designed to create a safe place
  for connection and physical wellness. This program features bodyweight mo
 vements\, cardio and weights. No experience necessary and newcomers are al
 ways welcome. Event Facilitated in English. Go to https://buildinghopesumm
 it.org/ for more info.\n\nFeb 4 Time: 12-1pm Location: Frisco  
CATEGORIES:Building Hope Summit County
END:VEVENT
BEGIN:VTIMEZONE
TZID:America/Denver
X-LIC-LOCATION:America/Denver
BEGIN:STANDARD
DTSTART:20221106T010000
TZOFFSETFROM:-0600
TZOFFSETTO:-0700
TZNAME:MST
END:STANDARD
END:VTIMEZONE
END:VCALENDAR