BEGIN:VCALENDAR
VERSION:2.0
PRODID:-//wp-events-plugin.com//7.2.3.1//EN
TZID:America/Denver
X-WR-TIMEZONE:America/Denver
BEGIN:VEVENT
UID:436@krystal93.com
DTSTART;TZID=America/Denver:20230211T120000
DTEND;TZID=America/Denver:20230211T130000
DTSTAMP:20230131T191519Z
URL:https://krystal93.com/events/fit-to-recover-crossfit-37/
SUMMARY:Fit to Recover Crossfit
DESCRIPTION:FIT TO RECOVER CROSSFIT CLASS Join fellow community members in 
 recovery for a one-hour class specifically designed to create a safe place
  for connection and physical wellness. This program features bodyweight mo
 vements\, cardio and weights. No experience necessary and newcomers are al
 ways welcome. Event Facilitated in English. \n\nFeb 11 Time: 12-1pm Locati
 on: Frisco  \n\n  Go to https://buildinghopesummit.org/ for more info.\n
 \n&nbsp\;
CATEGORIES:Building Hope Summit County
END:VEVENT
BEGIN:VTIMEZONE
TZID:America/Denver
X-LIC-LOCATION:America/Denver
BEGIN:STANDARD
DTSTART:20221106T010000
TZOFFSETFROM:-0600
TZOFFSETTO:-0700
TZNAME:MST
END:STANDARD
END:VTIMEZONE
END:VCALENDAR