BEGIN:VCALENDAR
VERSION:2.0
PRODID:-//wp-events-plugin.com//7.2.3.1//EN
TZID:America/Denver
X-WR-TIMEZONE:America/Denver
BEGIN:VEVENT
UID:490@krystal93.com
DTSTART;TZID=America/Denver:20230325T120000
DTEND;TZID=America/Denver:20230325T130000
DTSTAMP:20230228T171824Z
URL:https://krystal93.com/events/fit-to-recover-crossfit-42/
SUMMARY:Fit to Recover Crossfit
DESCRIPTION: FIT TO RECOVER CROSSFIT CLASS  \n\nJoin fellow community mem
 bers in recovery for a one-hour class specifically designed to create a sa
 fe place for connection and physical wellness. This program features bodyw
 eight movements\, cardio and weights. No experience necessary and newcomer
 s are always welcome. Event Facilitated in English. www.buildinghopesummit
 .org/events \n\nTime: 12-1pm Location: Frisco 
CATEGORIES:Building Hope Summit County
END:VEVENT
BEGIN:VTIMEZONE
TZID:America/Denver
X-LIC-LOCATION:America/Denver
BEGIN:DAYLIGHT
DTSTART:20230312T030000
TZOFFSETFROM:-0700
TZOFFSETTO:-0600
TZNAME:MDT
END:DAYLIGHT
END:VTIMEZONE
END:VCALENDAR