BEGIN:VCALENDAR
VERSION:2.0
PRODID:-//wp-events-plugin.com//7.2.3.1//EN
TZID:America/Denver
X-WR-TIMEZONE:America/Denver
BEGIN:VEVENT
UID:1895@krystal93.com
DTSTART;TZID=America/Denver:20260418T150000
DTEND;TZID=America/Denver:20260418T163000
DTSTAMP:20260329T133700Z
URL:https://krystal93.com/events/flow-with-nature/
SUMMARY:Flow with Nature
DESCRIPTION:SATURDAY\, APRIL 18\, 2026\nFlow with Nature\n3:00-4:30pm / Sil
 verthorne\nTake a break from screens\, stress\, and busy schedules\,\nand 
 spend some time outside on a gentle mountain\ntrail. You will enjoy being 
 guided through simple\,\ninteractive moments to reconnect with the element
 s\nof nature.\nThis event is intended for Summit County residents only. Ag
 es 11-18.\nEvent Facilitated in English.\nCONTACT BuildingHopeSummit.org f
 or more information and to sign up.
CATEGORIES:Building Hope Summit County
END:VEVENT
BEGIN:VTIMEZONE
TZID:America/Denver
X-LIC-LOCATION:America/Denver
BEGIN:DAYLIGHT
DTSTART:20260308T030000
TZOFFSETFROM:-0700
TZOFFSETTO:-0600
TZNAME:MDT
END:DAYLIGHT
END:VTIMEZONE
END:VCALENDAR