BEGIN:VCALENDAR
VERSION:2.0
PRODID:-//wp-events-plugin.com//7.2.3.1//EN
TZID:America/Denver
X-WR-TIMEZONE:America/Denver
BEGIN:VEVENT
UID:105@krystal93.com
DTSTART;TZID=America/Denver:20220315T180000
DTEND;TZID=America/Denver:20220315T200000
DTSTAMP:20220303T042749Z
URL:https://krystal93.com/events/folklorico-dance-12-18/
SUMMARY:Collective Paint & Community Collage
DESCRIPTION:\n\n\n\nThis multi-dimensional workshop produces a collective w
 ork of art on canvas that makes a statement\, or several statements\, dep
 ending on the collective consciousness of the group. We will dive into Sur
 realism and Metarealism creating blackout poetry and working with material
 s that are specific to Summit County. We will explore collaborative painti
 ng and layering materials enhanced by a soundtrack that stretches the imag
 ination. Per BreckCreate policies\, guests 18 and older must present proof
  of COVID-19 vaccination along with a state issued driver’s license or o
 ther identification. Event Facilitated in English. \n\nTime: 6 - 8 pm Loc
 ation: Breckenridge \n\nRegister at BuildingHopeSummit.org/events.\n\n\n\
 n
CATEGORIES:Building Hope Summit County
END:VEVENT
BEGIN:VTIMEZONE
TZID:America/Denver
X-LIC-LOCATION:America/Denver
BEGIN:DAYLIGHT
DTSTART:20220313T030000
TZOFFSETFROM:-0700
TZOFFSETTO:-0600
TZNAME:MDT
END:DAYLIGHT
END:VTIMEZONE
END:VCALENDAR