BEGIN:VCALENDAR
VERSION:2.0
PRODID:-//wp-events-plugin.com//7.2.3.1//EN
TZID:America/Denver
X-WR-TIMEZONE:America/Denver
BEGIN:VEVENT
UID:727@krystal93.com
DTSTART;TZID=America/Denver:20231005T100000
DTEND;TZID=America/Denver:20231005T220000
DTSTAMP:20231002T145524Z
URL:https://krystal93.com/events/foo-fighter-presale/
SUMMARY:Foo Fighter Presale
DESCRIPTION:Krystal 93 Welcomes FOO FIGHTERS to Empower Field at Mile High 
 on August 3 of 2024. Special guests will be the Pretenders and Mammoth WVH
 . The Presale for this show is this Thursday at 10am at Ticketmaster-dot-c
 om. Check out Krystal93.com under NEWS OF THE DAY (because this is THAT BI
 G) on the home page to get the presale code.
END:VEVENT
BEGIN:VTIMEZONE
TZID:America/Denver
X-LIC-LOCATION:America/Denver
BEGIN:DAYLIGHT
DTSTART:20230312T030000
TZOFFSETFROM:-0700
TZOFFSETTO:-0600
TZNAME:MDT
END:DAYLIGHT
END:VTIMEZONE
END:VCALENDAR