BEGIN:VCALENDAR
VERSION:2.0
PRODID:-//wp-events-plugin.com//7.2.3.1//EN
TZID:America/Denver
X-WR-TIMEZONE:America/Denver
BEGIN:VEVENT
UID:357@krystal93.com
DTSTART;TZID=America/Denver:20221210T000000
DTEND;TZID=America/Denver:20221211T000000
DTSTAMP:20221130T030933Z
URL:https://krystal93.com/events/forget-me-not-winter-overnight/
SUMMARY:Forget Me Not Winter Overnight
DESCRIPTION:Kiddos can come spend the night at the Breckenridge Outdoor Edu
 cation Center and give their parents a chance to get a break or do some ho
 liday shopping. Email stacy@clubforgetmenot.org if you plan on attending!
END:VEVENT
BEGIN:VTIMEZONE
TZID:America/Denver
X-LIC-LOCATION:America/Denver
BEGIN:STANDARD
DTSTART:20221106T010000
TZOFFSETFROM:-0600
TZOFFSETTO:-0700
TZNAME:MST
END:STANDARD
END:VTIMEZONE
END:VCALENDAR